BEGIN:VCALENDAR
VERSION:2.0
PRODID:-//Casa de Festas - Cuiabá - ECPv6.15.13.1//NONSGML v1.0//EN
CALSCALE:GREGORIAN
METHOD:PUBLISH
X-ORIGINAL-URL:https://www.casadefestas.net
X-WR-CALDESC:Eventos para Casa de Festas - Cuiabá
REFRESH-INTERVAL;VALUE=DURATION:PT1H
X-Robots-Tag:noindex
X-PUBLISHED-TTL:PT1H
BEGIN:VTIMEZONE
TZID:America/Cuiaba
BEGIN:STANDARD
TZOFFSETFROM:-0400
TZOFFSETTO:-0400
TZNAME:-04
DTSTART:20250101T000000
END:STANDARD
END:VTIMEZONE
BEGIN:VEVENT
DTSTART;VALUE=DATE:20260912
DTEND;VALUE=DATE:20260913
DTSTAMP:20260421T214707
CREATED:20260128T203502Z
LAST-MODIFIED:20260408T165746Z
UID:14829-1789171200-1789257599@www.casadefestas.net
SUMMARY:FESTIVAL NA SERRA evento ADIADO para 12/SET
DESCRIPTION:  \n\n                \n\n                \n                    \n                        \n                           \n\n                            \n                                1 de 2\n                                \n                                    \n                                    \n                                \n                            \n                        \n\n                        \n                            \n                                \n                    \n                        \n                            \n                                \n                            \n                            MAPA\n                        \n                    \n                    \n                        \n                            \n                                \n                            \n                            \n                        \n                    \n                            \n                        \n\n                        \n                            \n                                \n                    \n                        \n                    \n                    \n                        \n                    \n                            \n                        \n\n                    \n\n                \n                \n  \n\nEVENTO SERÁ ADIADO 12/SET informamos aos clientes que quem optar por continuar com o ingresso para a próxima data não precisara trocar. E quem não quiser mais ir a devolução será feito pela produção do evento no periodo de 20 de março a 20 de abril  solicitar devolução pelo contato 65 99948 5243. \n  \nNas atrações:\n✅ Um sertanejo pra cantar com o coração – Clayton & Romário\n✅ O fenômeno atual no forró – Léo Foguete \n🍖 03 horas de Open Churras \n  \n‼️ SERVIÇOS BANGALÔ:‼️ \n– ESPAÇO PARA 12 PESSOAS;\n– ⁠VISTA PRIVILEGIADA;\n– ⁠ESPAÇO INTEGRADO AO PALCO;\n– ⁠ATENDIMENTO POR GARÇONS;\n– ⁠BANHEIROS | BARES EXCLUSIVOS;\n– ⁠ACESSO AO SETOR UNICO;\n– ⁠OPEN DE CHURRASCO\, ATÉ AS 18H;\n– ⁠SEGURANÇA | CONFORTO | CENOGRAFIA;\n– ⁠CLASSIFICAÇÃO DE IDADE: LIVRE. \n\n CLASSIFICAÇÃO LIVRE – Livre para todos os públicos \n Formas de Pagamento: Dinheiro\, Pix e tem acréscimo no Cartão Débito e Crédito (lei 13455 de 26 de junho de 2017)\n\n Atenção – Valores acima podem sofrer alteração a qualquer momento sem aviso prévio. \n\nPCD + Informações: Ditado Produções (65) 9.9948-5243 (atendimento 09h00 as 18h00) \nGratuidade para Deficientes Físicos\, Autismo e Idosos acima de 65 anos\nEm entendimento a Lei nº 5.634 de 21 de Janeiro de 2013 art. 2º a comprovação da deficiência do beneficiário desta Lei será feita mediante apresentação da carteira da entidade que o represente ou que os assistam.\nTem Direito a Acompanhante:\n– Carteira da Associação se estiver escrito que tem direito a acompanhante.\n– Deficiente Visual independente se tiver a observação de acompanhante\n– Deficiente com dificuldade motora (cadeirante) independente se tiver a observação de acompanhante.\nA gratuidade de ingresso serão emitidas no dia na Bilheteria.\nNão aceita laudo e nem carteirinha de ônibus. \nQuem tem DIREITO a MEIA ENTRADA: \n– Estudantes\n– Doador de Sangue ou Medula – Carteira de Doador\n– Professor – Holerite ou Carteira da Associação ou Sindicato)\n– Idoso entre 60 a 65 anos\n– Aposentados\n– Jovem da Baixa Renda\n– Portadores de Câncer e Doenças Degenerativas\n– Portador do Cartão ID Jovem com validade vigente na data do jogo\n– Radialista e Jornalista conforme Lei Municipal 5.497 de 6 de dezembro de 2011)\n– PCD \nCASA DE FESTAS \n Pantanal Shopping\, Piso 2 ao lado da Riachuelo\natendimento 10h as 20h segunda a sábado\, domingo fechado\nAv. Historiador Rubens de Mendonça. 3300\nJardim Aclimação\nCuiabá/MT\n Inf. (65) 9.9953-1935 \nTemos ON LINE e o serviço DISK INGRESSO\natendimento 10h as 18h segunda a sexta\n*disk ingresso consulte a taxa do motoboy\n*on-line cliente recebera ingresso sms e e-mail e pagamento via pix\nCaso queira adquirir seu ingresso pelo nosso WhatsApp cliente receberá sms e e-mail (alguns eventos) e outros deixamos separados após pagamento para retirada pelo mesmo.\natendimento 10h as 20h segunda a sábado\n Informações: (65) 9.9953-1935 \nQuem Dita Tendência. Compra Antecipado!!!
URL:https://www.casadefestas.net/evento/festival-na-serra/
LOCATION:LAGOA DAS CONCHAS – CHAPADA DOS GUIMARÃES-MT\, CHAPADA DOS GUIMARÁES\, Mato Grosso\, Brazil
ATTACH;FMTTYPE=image/jpeg:https://www.casadefestas.net/wp-content/uploads/2026/01/WhatsApp-Image-2026-04-08-at-12.57.08.jpeg
END:VEVENT
BEGIN:VEVENT
DTSTART;VALUE=DATE:20260926
DTEND;VALUE=DATE:20260927
DTSTAMP:20260421T214707
CREATED:20260128T203823Z
LAST-MODIFIED:20260303T192301Z
UID:14837-1790380800-1790467199@www.casadefestas.net
SUMMARY:HISTÓRIAS - O Maior de Todos
DESCRIPTION:1 de 1\n                                \n                                    \n                                    \n                                \n                            \n                        \n\n                        \n                            \n                                \n                    \n                        \n                            \n                                \n                            \n                            \n                        \n                    \n                            \n                        \n\n                        \n                            \n                                \n                    \n                        \n                    \n                            \n                        \n\n                    \n\n                \n                \nVAMOS ESCREVER NOVAS HISTÓRIAS? ✨ Em 2026\, o Festival Histórias te convida a escrever um novo capítulo\, o maior de todos! \nCuiabá\nO Histórias desembarca em Cuiabá para uma edição que celebra a força\, a memória e os grandes capítulos da música sertaneja. Um encontro de vozes que atravessam gerações\, unem famílias e transformam cada canção em lembrança viva. Um espetáculo grandioso\, pensado para emocionar do começo ao fim. \nO evento acontece na Arena Pantanal\, com estrutura de grande porte\, conforto e setores planejados para diferentes experiências de público. \nSERVIÇO\nData: Sábado\, 26 de setembro de 2026\nLocal: Arena Pantanal\nClassificação: 18 anos \n\nATRAÇÕES\n✮ Chitãozinho & Xororó\n✮ Zezé Di Camargo & Luciano\n✮ Bruno & Marrone\n✮ Daniel \n\n CLASSIFICAÇÃO 18 – Proibida a entrada de menores de 18 anos \n Formas de Pagamento: Dinheiro\, Pix e tem acréscimo no Cartão Débito e Crédito (lei 13455 de 26 de junho de 2017)\n\n Atenção – Valores acima podem sofrer alteração a qualquer momento sem aviso prévio. \n\nPCD + Informações: Ditado Produções (65) 9.9948-5243 (atendimento 09h00 as 18h00) \nGratuidade para Deficientes Físicos\, Autismo e Idosos acima de 65 anos\nEm entendimento a Lei nº 5.634 de 21 de Janeiro de 2013 art. 2º a comprovação da deficiência do beneficiário desta Lei será feita mediante apresentação da carteira da entidade que o represente ou que os assistam.\nTem Direito a Acompanhante:\n– Carteira da Associação se estiver escrito que tem direito a acompanhante.\n– Deficiente Visual independente se tiver a observação de acompanhante\n– Deficiente com dificuldade motora (cadeirante) independente se tiver a observação de acompanhante.\nA gratuidade de ingresso serão emitidas no dia na Bilheteria.\nNão aceita laudo e nem carteirinha de ônibus. \nQuem tem DIREITO a MEIA ENTRADA: \n– Estudantes\n– Doador de Sangue ou Medula – Carteira de Doador\n– Professor – Holerite ou Carteira da Associação ou Sindicato)\n– Idoso entre 60 a 65 anos\n– Aposentados\n– Jovem da Baixa Renda\n– Portadores de Câncer e Doenças Degenerativas\n– Portador do Cartão ID Jovem com validade vigente na data do jogo\n– Radialista e Jornalista conforme Lei Municipal 5.497 de 6 de dezembro de 2011)\n– PCD \nCASA DE FESTAS \n Pantanal Shopping\, Piso 2 ao lado da Riachuelo\natendimento 10h as 20h segunda a sábado\, domingo fechado\nAv. Historiador Rubens de Mendonça. 3300\nJardim Aclimação\nCuiabá/MT\n Inf. (65) 9.9953-1935 \nTemos ON LINE e o serviço DISK INGRESSO\natendimento 10h as 18h segunda a sexta\n*disk ingresso consulte a taxa do motoboy\n*on-line cliente recebera ingresso sms e e-mail e pagamento via pix\nCaso queira adquirir seu ingresso pelo nosso WhatsApp cliente receberá sms e e-mail (alguns eventos) e outros deixamos separados após pagamento para retirada pelo mesmo.\natendimento 10h as 20h segunda a sábado\n Informações: (65) 9.9953-1935 \nQuem Dita Tendência. Compra Antecipado!!!
URL:https://www.casadefestas.net/evento/historias-o-maior-de-todos/
LOCATION:Arena Pantanal\, Brazil
ATTACH;FMTTYPE=image/jpeg:https://www.casadefestas.net/wp-content/uploads/2026/01/WhatsApp-Image-2026-02-18-at-18.43.58.jpeg
END:VEVENT
BEGIN:VEVENT
DTSTART;VALUE=DATE:20261003
DTEND;VALUE=DATE:20261004
DTSTAMP:20260421T214707
CREATED:20251209T151058Z
LAST-MODIFIED:20260303T192255Z
UID:14275-1790985600-1791071999@www.casadefestas.net
SUMMARY:FEIJÔ ALLURE 2 - ALEXANDRE PIRES
DESCRIPTION:Formas de Pagamento: Dinheiro e tem acréscimo no Pix\, Cartão Débito e Crédito (lei 13455 de 26 de junho de 2017)\n\n Atenção – Valores acima podem sofrer alteração a qualquer momento sem aviso prévio. \n\nPCD + Informações: (65) 9.9267-7396 (atendimento 09h00 as 18h00) \nGratuidade para Deficientes Físicos\, Autismo e Idosos acima de 65 anos\nEm entendimento a Lei nº 5.634 de 21 de Janeiro de 2013 art. 2º a comprovação da deficiência do beneficiário desta Lei será feita mediante apresentação da carteira da entidade que o represente ou que os assistam.\nTem Direito a Acompanhante:\n– Carteira da Associação se estiver escrito que tem direito a acompanhante.\n– Deficiente Visual independente se tiver a observação de acompanhante\n– Deficiente com dificuldade motora (cadeirante) independente se tiver a observação de acompanhante.\nA gratuidade de ingresso serão emitidas no dia na Bilheteria.\nNão aceita laudo e nem carteirinha de ônibus. \nQuem tem DIREITO a MEIA ENTRADA: \n– Estudantes\n– Doador de Sangue ou Medula – Carteira de Doador\n– Professor – Holerite ou Carteira da Associação ou Sindicato)\n– Idoso entre 60 a 65 anos\n– Aposentados\n– Jovem da Baixa Renda\n– Portadores de Câncer e Doenças Degenerativas\n– Portador do Cartão ID Jovem com validade vigente na data do jogo\n– Radialista e Jornalista conforme Lei Municipal 5.497 de 6 de dezembro de 2011)\n– PCD \nCASA DE FESTAS \n Pantanal Shopping\, Piso 2 ao lado da Riachuelo\natendimento 10h as 20h segunda a sábado\, domingo fechado\nAv. Historiador Rubens de Mendonça. 3300\nJardim Aclimação\nCuiabá/MT\n Inf. (65) 9.9953-1935 \nTemos ON LINE e o serviço DISK INGRESSO\natendimento 10h as 18h segunda a sexta\n*disk ingresso consulte a taxa do motoboy\n*on-line cliente recebera ingresso sms e e-mail e pagamento via pix\nCaso queira adquirir seu ingresso pelo nosso WhatsApp cliente receberá sms e e-mail (alguns eventos) e outros deixamos separados após pagamento para retirada pelo mesmo.\natendimento 10h as 20h segunda a sábado\n Informações: (65) 9.9953-1935 \nQuem Dita Tendência. Compra Antecipado!!!
URL:https://www.casadefestas.net/evento/feijo-allure-2-alexandre-pires/
LOCATION:Allure Music Hall\, Rodovia Helder Cândia\, 2.044 - Ribeirão do Lipa\, Cuiabá - MT\, 78048-150\, Cuiabá\, MT\, 78048-150\, Brazil
CATEGORIES:Allure Music Hall
ATTACH;FMTTYPE=image/jpeg:https://www.casadefestas.net/wp-content/uploads/2025/12/WhatsApp-Image-2026-01-09-at-14.03.35.jpeg
END:VEVENT
END:VCALENDAR