BEGIN:VCALENDAR
VERSION:2.0
PRODID:-//Casa de Festas - Cuiabá - ECPv6.15.13.1//NONSGML v1.0//EN
CALSCALE:GREGORIAN
METHOD:PUBLISH
X-WR-CALNAME:Casa de Festas - Cuiabá
X-ORIGINAL-URL:https://www.casadefestas.net
X-WR-CALDESC:Eventos para Casa de Festas - Cuiabá
REFRESH-INTERVAL;VALUE=DURATION:PT1H
X-Robots-Tag:noindex
X-PUBLISHED-TTL:PT1H
BEGIN:VTIMEZONE
TZID:America/Cuiaba
BEGIN:STANDARD
TZOFFSETFROM:-0400
TZOFFSETTO:-0400
TZNAME:-04
DTSTART:20250101T000000
END:STANDARD
END:VTIMEZONE
BEGIN:VEVENT
DTSTART;VALUE=DATE:20260321
DTEND;VALUE=DATE:20260322
DTSTAMP:20260421T080133
CREATED:20251217T181555Z
LAST-MODIFIED:20260303T192519Z
UID:14372-1774051200-1774137599@www.casadefestas.net
SUMMARY:CHURRASCO ON FIRE CUIABÁ
DESCRIPTION:1 de 3\n                                \n                                    \n                                    \n                                \n                            \n                        \n\n                        \n                            \n                                \n                    \n                        \n                            \n                                \n                            \n                            \n                        \n                    \n                    \n                        \n                            \n                                \n                            \n                            \n                        \n                    \n                    \n                        \n                            \n                                \n                            \n                            \n                        \n                    \n                            \n                        \n\n                        \n                            \n                                \n                    \n                        \n                    \n                    \n                        \n                    \n                    \n                        \n                    \n                            \n                        \n\n                    \n\n                \n                \nO evento de churrasco da dupla Fernando & Sorocaba desembarca em Cuiabá/MT em março de 2026 trazendo muitas novidades. \nPrepare-se para viver o Churrasco On Fire\, um encontro onde a alegria\, a boa música e o verdadeiro churrasco se fundem para criar lembranças que ficarão para sempre em sua memória. Nos encontramos lá! \nChurrasco On Fire\, o maior evento gastronômico em público do Brasil!\nHorário de Abertura dos Portões: 15h\nOpen Churrasco: 15h às 19h\nHorário de Término do Evento: 22h \n*Ao adquirir seu ingresso para o evento\, você autoriza a veiculação e uso da sua imagem nas peças de divulgação da festa.\n*Nenhum setor possui Open Bar \nCensura: \n– 12 anos (menor acompanhado por responsável legal).\nClassificação: 12+ (crianças menores de 12 anos não são permitidas e a partir de 12 anos pagam valor de meia entrada). \nPCD: Adquira seu ingresso na bilheteria no dia e local do evento – será cobrado a taxa de open churrasco de R$ 150\,00\, \nMeia Solidária*: *É obrigatória a contribuição com 1 Kg de alimento não perecível por convidado.* (Sal não será aceito). \n*Apresentação obrigatória de documento/comprovante referente ao benéfico da meia entrada na entrada do evento. \n  \nÁrea On Fire: \n• Vista para o palco\n• Acesso a ativações\n• Atendimento de bar\n• 4h de open churrasco com acesso direto às estações de churrasco\n• Área parcialmente coberta\n• Banheiros\n• Pontos instagramáveis \nCamarote: \n• Vista privilegiada para o palco\n• Atendimento exclusivo de bar e churrasco (4h de open churrasco)\n• Banheiros exclusivos\n• Pontos instagramáveis\n• Acesso à “Área On Fire”\n• Área coberta com piso \nLounge: \n• Espaço reservado para você e seus convidados\n• 4h de Open Churrasco\n• Serviço de Garçom para atendimento de Bar Exclusivo\n• Área Coberta com piso\n• Acesso ao Camarote e Área On Fire \n\n Formas de Pagamento: Dinheiro e tem acréscimo no Pix\, Cartão Débito e Crédito (lei 13455 de 26 de junho de 2017) \n Atenção – Valores acima podem sofrer alteração a qualquer momento sem aviso prévio. \n\nPCD + Informações: (65) 9.9948-5243 (atendimento 09h00 as 18h00) \nGratuidade para Deficientes Físicos\, Autismo e Idosos acima de 65 anos\nEm entendimento a Lei nº 5.634 de 21 de Janeiro de 2013 art. 2º a comprovação da deficiência do beneficiário desta Lei será feita mediante apresentação da carteira da entidade que o represente ou que os assistam.\nTem Direito a Acompanhante:\n– Carteira da Associação se estiver escrito que tem direito a acompanhante.\n– Deficiente Visual independente se tiver a observação de acompanhante\n– Deficiente com dificuldade motora (cadeirante) independente se tiver a observação de acompanhante.\nA gratuidade de ingresso serão emitidas no dia na Bilheteria.\nNão aceita laudo e nem carteirinha de ônibus. \nQuem tem DIREITO a MEIA ENTRADA: \n– Estudantes\n– Doador de Sangue ou Medula – Carteira de Doador\n– Professor – Holerite ou Carteira da Associação ou Sindicato)\n– Idoso entre 60 a 65 anos\n– Aposentados\n– Jovem da Baixa Renda\n– Portadores de Câncer e Doenças Degenerativas\n– Portador do Cartão ID Jovem com validade vigente na data do jogo\n– Radialista e Jornalista conforme Lei Municipal 5.497 de 6 de dezembro de 2011)\n– PCD \nCASA DE FESTAS \n Pantanal Shopping\, Piso 2 ao lado da Riachuelo\natendimento 10h as 20h segunda a sábado\, domingo fechado\nAv. Historiador Rubens de Mendonça. 3300\nJardim Aclimação\nCuiabá/MT\n Inf. (65) 9.9953-1935 \nTemos ON LINE e o serviço DISK INGRESSO\natendimento 10h as 18h segunda a sexta\n*disk ingresso consulte a taxa do motoboy\n*on-line cliente recebera ingresso sms e e-mail e pagamento via pix\nCaso queira adquirir seu ingresso pelo nosso WhatsApp cliente receberá sms e e-mail (alguns eventos) e outros deixamos separados após pagamento para retirada pelo mesmo.\natendimento 10h as 20h segunda a sábado\n Informações: (65) 9.9953-1935 \nQuem Dita Tendência. Compra Antecipado!!!
URL:https://www.casadefestas.net/evento/churrasco-on-fire-cuiaba/
LOCATION:Parque de Exposições Da Acrimat Senador Jonas Pinheiro\, Av. Manoel José de Arruda\, s/n - Terceiro\, Cuiabá - MT\, 78008-010\, Mato Grosso\, Cuiabá\, 78008-010
ATTACH;FMTTYPE=image/png:https://www.casadefestas.net/wp-content/uploads/2025/12/cof-cuiaba-21mar-1.png
END:VEVENT
END:VCALENDAR