BEGIN:VCALENDAR
VERSION:2.0
PRODID:-//Casa de Festas - Cuiabá - ECPv6.15.13.1//NONSGML v1.0//EN
CALSCALE:GREGORIAN
METHOD:PUBLISH
X-ORIGINAL-URL:https://www.casadefestas.net
X-WR-CALDESC:Eventos para Casa de Festas - Cuiabá
REFRESH-INTERVAL;VALUE=DURATION:PT1H
X-Robots-Tag:noindex
X-PUBLISHED-TTL:PT1H
BEGIN:VTIMEZONE
TZID:America/Cuiaba
BEGIN:STANDARD
TZOFFSETFROM:-0400
TZOFFSETTO:-0400
TZNAME:-04
DTSTART:20250101T000000
END:STANDARD
END:VTIMEZONE
BEGIN:VEVENT
DTSTART;VALUE=DATE:20260307
DTEND;VALUE=DATE:20260308
DTSTAMP:20260421T080300
CREATED:20260303T170846Z
LAST-MODIFIED:20260303T192541Z
UID:15345-1772841600-1772927999@www.casadefestas.net
SUMMARY:ON MORE TIME
DESCRIPTION:1 de 1\n                                \n                                    \n                                    \n                                \n                            \n                        \n\n                        \n                            \n                                \n                    \n                        \n                            \n                                \n                            \n                            \n                        \n                    \n                            \n                        \n\n                        \n                            \n                                \n                    \n                        \n                    \n                            \n                        \n\n                    \n\n                \n                \n  \nDEEJS – Vasco Neves\, Teco\, Gilmar e Ryan \n Formas de Pagamento: Dinheiro\, Pix e tem acréscimo no Cartão Débito e Crédito (lei 13455 de 26 de junho de 2017)\n\n Atenção – Valores acima podem sofrer alteração a qualquer momento sem aviso prévio. \n\nPCD entrada liberada de pista retira a entrada na bilheteria na entrada. \nGratuidade para Deficientes Físicos\, Autismo e Idosos acima de 65 anos\nEm entendimento a Lei nº 5.634 de 21 de Janeiro de 2013 art. 2º a comprovação da deficiência do beneficiário desta Lei será feita mediante apresentação da carteira da entidade que o represente ou que os assistam.\nTem Direito a Acompanhante:\n– Carteira da Associação se estiver escrito que tem direito a acompanhante.\n– Deficiente Visual independente se tiver a observação de acompanhante\n– Deficiente com dificuldade motora (cadeirante) independente se tiver a observação de acompanhante.\nA gratuidade de ingresso serão emitidas no dia na Bilheteria.\nNão aceita laudo e nem carteirinha de ônibus. \nQuem tem DIREITO a MEIA ENTRADA: \n– Estudantes\n– Doador de Sangue ou Medula – Carteira de Doador\n– Professor – Holerite ou Carteira da Associação ou Sindicato)\n– Idoso entre 60 a 65 anos\n– Aposentados\n– Jovem da Baixa Renda\n– Portadores de Câncer e Doenças Degenerativas\n– Portador do Cartão ID Jovem com validade vigente na data do jogo\n– Radialista e Jornalista conforme Lei Municipal 5.497 de 6 de dezembro de 2011)\n– PCD \nCASA DE FESTAS \n Pantanal Shopping\, Piso 2 ao lado da Riachuelo\natendimento 10h as 20h segunda a sábado\, domingo fechado\nAv. Historiador Rubens de Mendonça. 3300\nJardim Aclimação\nCuiabá/MT\n Inf. (65) 9.9953-1935 \nTemos ON LINE e o serviço DISK INGRESSO\natendimento 10h as 18h segunda a sexta\n*disk ingresso consulte a taxa do motoboy\n*on-line cliente recebera ingresso sms e e-mail e pagamento via pix\nCaso queira adquirir seu ingresso pelo nosso WhatsApp cliente receberá sms e e-mail (alguns eventos) e outros deixamos separados após pagamento para retirada pelo mesmo.\natendimento 10h as 20h segunda a sábado\n Informações: (65) 9.9953-1935 \nQuem Dita Tendência. Compra Antecipado!!!
URL:https://www.casadefestas.net/evento/on-more-time/
LOCATION:Nuun Garden\, Brazil
END:VEVENT
BEGIN:VEVENT
DTSTART;VALUE=DATE:20260307
DTEND;VALUE=DATE:20260308
DTSTAMP:20260421T080300
CREATED:20260113T174614Z
LAST-MODIFIED:20260303T192557Z
UID:14678-1772841600-1772927999@www.casadefestas.net
SUMMARY:SEMANA DO CAVALO - EDUARDO COSTA | FELIPE & RODRIGO
DESCRIPTION:  \n\n                \n\n                \n                    \n                        \n                           \n\n                            \n                                1 de 3\n                                \n                                    \n                                    \n                                \n                            \n                        \n\n                        \n                            \n                                \n                    \n                        \n                            \n                                \n                            \n                            MAPA GERAL\n                        \n                    \n                    \n                        \n                            \n                                \n                            \n                            MAPA BANGALÔ\n                        \n                    \n                    \n                        \n                            \n                                \n                            \n                            ATRAÇÕES\n                        \n                    \n                            \n                        \n\n                        \n                            \n                                \n                    \n                        \n                    \n                    \n                        \n                    \n                    \n                        \n                    \n                            \n                        \n\n                    \n\n                \n                \n  \n\nSETORES | SERVIÇOS \nBANGALÔ:\nESPAÇO RESERVADO | 12 PESSOAS\nACESSO A FRENTE DO PALCO\nATENDIMENTO POR GARÇONS\nVISTA PRIVILEGIADA\nSEGURANÇA\nDECORAÇÃO | ÁREA DE DESCANSO\nBANHEIROS | PRAÇA DE ALIMENTAÇÃO | E BARES\nEXCLUSIVOS \nCAMAROTE:\nACESSO A FRENTE DO PALCO\nBANHEIROS |PRAÇA DE ALIMENTAÇÃO |E BARES EXCLUSIVOS\nSEGURANÇA\nDECORAÇÃO | ÁREA DE DESCANSO\nVISTA PRIVELEGIADA \n\nEntre os dias 04 e 14 de março\, o Parque Novo Mato Grosso será palco da Semana do Cavalo\, considerada o maior evento equestre do Centro-Oeste\, reunindo esporte\, entretenimento e cultura em uma programação pensada para toda a família. \nO evento celebra a paixão pelo cavalo e vai muito além das competições. A programação inclui provas hípicas\, leilões\, expositores\, parque de diversões\, experiências gastronômicas e uma agenda de shows nacionais que promete atrair públicos de todas as idades. \nA Semana do Cavalo reforça sua proposta de entretenimento completo\, unindo tradição\, lazer e grandes espetáculos em um só lugar\, consolidando-se como um dos principais eventos do calendário cultural\, e o maior evento equestre do Centro Oeste. \nCom uma programação diversificada e estrutura preparada para receber grandes públicos\, a Semana do Cavalo promete movimentar o estado e proporcionar momentos inesquecíveis para toda a família. \nA entrada do setor pista é gratuita\, e para quem procura maior conforto e comodidade\, estão disponíveis para venda os setores camarote e bangalô. \n\n CLASSIFICAÇÃO LIVRE (MENORES DE 18 ANOS DEVERÃO ESTAR ACOMPANHADOS PELOS PAIS OU RESPONSÁVEL LEGAL.) \n Formas de Pagamento: Dinheiro\, Pix e tem acréscimo no Cartão Débito e Crédito (lei 13455 de 26 de junho de 2017)\n\n Atenção – Valores acima podem sofrer alteração a qualquer momento sem aviso prévio. \n\nPCD + Informações: Ditado Produções (65) 9.9948-5243 (atendimento 09h00 as 18h00) \nGratuidade para Deficientes Físicos\, Autismo e Idosos acima de 65 anos\nEm entendimento a Lei nº 5.634 de 21 de Janeiro de 2013 art. 2º a comprovação da deficiência do beneficiário desta Lei será feita mediante apresentação da carteira da entidade que o represente ou que os assistam.\nTem Direito a Acompanhante:\n– Carteira da Associação se estiver escrito que tem direito a acompanhante.\n– Deficiente Visual independente se tiver a observação de acompanhante\n– Deficiente com dificuldade motora (cadeirante) independente se tiver a observação de acompanhante.\nA gratuidade de ingresso serão emitidas no dia na Bilheteria.\nNão aceita laudo e nem carteirinha de ônibus. \nQuem tem DIREITO a MEIA ENTRADA: \n– Estudantes\n– Doador de Sangue ou Medula – Carteira de Doador\n– Professor – Holerite ou Carteira da Associação ou Sindicato)\n– Idoso entre 60 a 65 anos\n– Aposentados\n– Jovem da Baixa Renda\n– Portadores de Câncer e Doenças Degenerativas\n– Portador do Cartão ID Jovem com validade vigente na data do jogo\n– Radialista e Jornalista conforme Lei Municipal 5.497 de 6 de dezembro de 2011)\n– PCD \nCASA DE FESTAS \n Pantanal Shopping\, Piso 2 ao lado da Riachuelo\natendimento 10h as 20h segunda a sábado\, domingo fechado\nAv. Historiador Rubens de Mendonça. 3300\nJardim Aclimação\nCuiabá/MT\n Inf. (65) 9.9953-1935 \nTemos ON LINE e o serviço DISK INGRESSO\natendimento 10h as 18h segunda a sexta\n*disk ingresso consulte a taxa do motoboy\n*on-line cliente recebera ingresso sms e e-mail e pagamento via pix\nCaso queira adquirir seu ingresso pelo nosso WhatsApp cliente receberá sms e e-mail (alguns eventos) e outros deixamos separados após pagamento para retirada pelo mesmo.\natendimento 10h as 20h segunda a sábado\n Informações: (65) 9.9953-1935 \nQuem Dita Tendência. Compra Antecipado!!!
URL:https://www.casadefestas.net/evento/semana-do-cavalo-eduardo-costa-felipe-rodrigo/
LOCATION:Parque Novo Mato Grosso\, MT-251\, cerca de 11km da Trincheira Engenheiro Roberto Flávio Abbott de Castro Pinto\, entre a Rodovia Helder Cândia - que liga Cuiabá ao Distrito de Nossa Senhora da Guia (MT-010)\, e Rodovia Emanuel Pinheiro – Estrada de Chapada\, Cuiabá\, Mato Grosso\, Brazil
ATTACH;FMTTYPE=image/jpeg:https://www.casadefestas.net/wp-content/uploads/2026/01/WhatsApp-Image-2026-01-13-at-10.17.39.jpeg
END:VEVENT
BEGIN:VEVENT
DTSTART;VALUE=DATE:20260307
DTEND;VALUE=DATE:20260308
DTSTAMP:20260421T080300
CREATED:20260203T233520Z
LAST-MODIFIED:20260303T192548Z
UID:14869-1772841600-1772927999@www.casadefestas.net
SUMMARY:FLASHBACK NETINHO COMPETITION
DESCRIPTION:1 de 1\n                                \n                                    \n                                    \n                                \n                            \n                        \n\n                        \n                            \n                                \n                    \n                        \n                            \n                                \n                            \n                            \n                        \n                    \n                            \n                        \n\n                        \n                            \n                                \n                    \n                        \n                    \n                            \n                        \n\n                    \n\n                \n                \n\n Formas de Pagamento: Dinheiro e tem acréscimo no Pix\, Cartão Débito e Crédito (lei 13455 de 26 de junho de 2017)\n\n Atenção – Valores acima podem sofrer alteração a qualquer momento sem aviso prévio. \n\nPCD + Informações: (65) 9.0000.0000 (atendimento 09h00 as 18h00) \nGratuidade para Deficientes Físicos\, Autismo e Idosos acima de 65 anos\nEm entendimento a Lei nº 5.634 de 21 de Janeiro de 2013 art. 2º a comprovação da deficiência do beneficiário desta Lei será feita mediante apresentação da carteira da entidade que o represente ou que os assistam.\nTem Direito a Acompanhante:\n– Carteira da Associação se estiver escrito que tem direito a acompanhante.\n– Deficiente Visual independente se tiver a observação de acompanhante\n– Deficiente com dificuldade motora (cadeirante) independente se tiver a observação de acompanhante.\nA gratuidade de ingresso serão emitidas no dia na Bilheteria.\nNão aceita laudo e nem carteirinha de ônibus. \nQuem tem DIREITO a MEIA ENTRADA: \n– Estudantes\n– Doador de Sangue ou Medula – Carteira de Doador\n– Professor – Holerite ou Carteira da Associação ou Sindicato)\n– Idoso entre 60 a 65 anos\n– Aposentados\n– Jovem da Baixa Renda\n– Portadores de Câncer e Doenças Degenerativas\n– Portador do Cartão ID Jovem com validade vigente na data do jogo\n– Radialista e Jornalista conforme Lei Municipal 5.497 de 6 de dezembro de 2011)\n– PCD \nCASA DE FESTAS \n Pantanal Shopping\, Piso 2 ao lado da Riachuelo\natendimento 10h as 20h segunda a sábado\, domingo fechado\nAv. Historiador Rubens de Mendonça. 3300\nJardim Aclimação\nCuiabá/MT\n Inf. (65) 9.9953-1935 \nTemos ON LINE e o serviço DISK INGRESSO\natendimento 10h as 18h segunda a sexta\n*disk ingresso consulte a taxa do motoboy\n*on-line cliente recebera ingresso sms e e-mail e pagamento via pix\nCaso queira adquirir seu ingresso pelo nosso WhatsApp cliente receberá sms e e-mail (alguns eventos) e outros deixamos separados após pagamento para retirada pelo mesmo.\natendimento 10h as 20h segunda a sábado\n Informações: (65) 9.9953-1935 \nQuem Dita Tendência. Compra Antecipado!!!
URL:https://www.casadefestas.net/evento/flashback-netinho-competition/
LOCATION:Clube da Caixa\, Rod. Palmiro Paes de Barros\, KM 2 - Jardim Nossa Sra. Aparecida\, CUIABÁ\, MATO GROSSO\, Brazil
ATTACH;FMTTYPE=image/jpeg:https://www.casadefestas.net/wp-content/uploads/2026/02/mapanetinho-1.jpg
END:VEVENT
END:VCALENDAR