BEGIN:VCALENDAR
VERSION:2.0
PRODID:-//Casa de Festas - Cuiabá - ECPv6.15.13.1//NONSGML v1.0//EN
CALSCALE:GREGORIAN
METHOD:PUBLISH
X-ORIGINAL-URL:https://www.casadefestas.net
X-WR-CALDESC:Eventos para Casa de Festas - Cuiabá
REFRESH-INTERVAL;VALUE=DURATION:PT1H
X-Robots-Tag:noindex
X-PUBLISHED-TTL:PT1H
BEGIN:VTIMEZONE
TZID:America/Cuiaba
BEGIN:STANDARD
TZOFFSETFROM:-0400
TZOFFSETTO:-0400
TZNAME:-04
DTSTART:20250101T000000
END:STANDARD
END:VTIMEZONE
BEGIN:VEVENT
DTSTART;VALUE=DATE:20260214
DTEND;VALUE=DATE:20260215
DTSTAMP:20260421T093729
CREATED:20251124T141615Z
LAST-MODIFIED:20260214T174445Z
UID:13870-1771027200-1771113599@www.casadefestas.net
SUMMARY:CHAPADA FEIJO FOLIA 2026 - 12h
DESCRIPTION:1 de 1\n                                \n                                    \n                                    \n                                \n                            \n                        \n\n                        \n                            \n                                \n                    \n                        \n                            \n                                \n                            \n                            \n                        \n                    \n                            \n                        \n\n                        \n                            \n                                \n                    \n                        \n                    \n                            \n                        \n\n                    \n\n                \n                \n\nAtrações\nCDB (Categoria De Base) (Nacional)\nArt Popular (Nacional)\nYuri e Gustavo\nNovo Som\nDj Monteiro\nDj Kuririm \nCamarote – OPEN BAR e OPEN FOOD\nÁrea VIP – OPEN FOOD \n\n CLASSIFICAÇÃO Livre – Livre para todos os públicos \n Formas de Pagamento: Dinheiro\, Pix e tem acréscimo no Cartão Débito e Crédito (lei 13455 de 26 de junho de 2017)\n\n Atenção – Valores acima podem sofrer alteração a qualquer momento sem aviso prévio. \n\nPCD + Informações: (65) 9.9224-2329 (atendimento 09h00 as 18h00) \nGratuidade para Deficientes Físicos\, Autismo e Idosos acima de 65 anos\nEm entendimento a Lei nº 5.634 de 21 de Janeiro de 2013 art. 2º a comprovação da deficiência do beneficiário desta Lei será feita mediante apresentação da carteira da entidade que o represente ou que os assistam.\nTem Direito a Acompanhante:\n– Carteira da Associação se estiver escrito que tem direito a acompanhante.\n– Deficiente Visual independente se tiver a observação de acompanhante\n– Deficiente com dificuldade motora (cadeirante) independente se tiver a observação de acompanhante.\nA gratuidade de ingresso serão emitidas no dia na Bilheteria.\nNão aceita laudo e nem carteirinha de ônibus. \nQuem tem DIREITO a MEIA ENTRADA: \n– Estudantes\n– Doador de Sangue ou Medula – Carteira de Doador\n– Professor – Holerite ou Carteira da Associação ou Sindicato)\n– Idoso entre 60 a 65 anos\n– Aposentados\n– Jovem da Baixa Renda\n– Portadores de Câncer e Doenças Degenerativas\n– Portador do Cartão ID Jovem com validade vigente na data do jogo\n– Radialista e Jornalista conforme Lei Municipal 5.497 de 6 de dezembro de 2011)\n– PCD \nCASA DE FESTAS \n LOJA 1 Pantanal Shopping\, Piso 2 ao lado da Riachuelo\natendimento 10h as 20h segunda a sábado\, domingo fechado\nAv. Historiador Rubens de Mendonça. 3300\nJardim Aclimação\nCuiabá/MT\n Inf. (65) 9.9953-1935 \n LOJA 2 Coxipó\, Salão Ampliato\natendimento 9h as 19h\, segunda a sábado\, domingo fechado\nAv. Tancredo Neves\, 631 (Córrego do Barbado)\nJardim Petrópolis\nCuiabá/MT\n Inf. (65) 9.9953-1935 \nTemos ON LINE e o serviço DISK INGRESSO\natendimento 10h as 18h segunda a sexta\n*disk ingresso consulte a taxa do motoboy\n*on-line cliente recebera ingresso sms e e-mail e pagamento via pix\nCaso queira adquirir seu ingresso pelo nosso WhatsApp cliente receberá sms e e-mail (alguns eventos) e outros deixamos separados após pagamento para retirada pelo mesmo.\natendimento 10h as 20h segunda a sábado\n Informações: (65) 9.9953-1935 \nQuem Dita Tendência. Compra Antecipado!!!
URL:https://www.casadefestas.net/evento/chapada-feijo-folia-2026-12h/
LOCATION:PRAÇA DO FESTIVAL DE CHAPADA DOS GUIMARAES\, Av. Penn Gomes\, 271\, Centro\, CHAPADA DOS GUIMARÁES\, MATO GROSSO\, 78195-000\, Brazil
CATEGORIES:Carnaval Chapada 2026
ATTACH;FMTTYPE=image/png:https://www.casadefestas.net/wp-content/uploads/2025/11/image-2-1.png
END:VEVENT
BEGIN:VEVENT
DTSTART;VALUE=DATE:20260214
DTEND;VALUE=DATE:20260215
DTSTAMP:20260421T093729
CREATED:20251124T141941Z
LAST-MODIFIED:20260210T172217Z
UID:13874-1771027200-1771113599@www.casadefestas.net
SUMMARY:BLOCO BEIJO ME LIGA 2026 - 17h
DESCRIPTION:1 de 3\n                                \n                                    \n                                    \n                                \n                            \n                        \n\n                        \n                            \n                                \n                    \n                        \n                            \n                                \n                            \n                            \n                        \n                    \n                    \n                        \n                            \n                                \n                            \n                            \n                        \n                    \n                    \n                        \n                            \n                                \n                            \n                            \n                        \n                    \n                            \n                        \n\n                        \n                            \n                                \n                    \n                        \n                    \n                    \n                        \n                    \n                    \n                        \n                    \n                            \n                        \n\n                    \n\n                \n                \n\nAtrações\nCDB (Categoria De Base) (Nacional)\nArt Popular (Nacional)\nYuri e Gustavo\nNovo Som\nDj Monteiro\nDj Kuririm \nIncluso abada + copo\n03 horas 17h as 20h open bar cerveja amstel \n\n CLASSIFICAÇÃO 18+ – Proibido para menores de 18 anos \n Formas de Pagamento: Dinheiro\, Pix e tem acréscimo no Cartão Débito e Crédito (lei 13455 de 26 de junho de 2017)\n\n Atenção – Valores acima podem sofrer alteração a qualquer momento sem aviso prévio. \n\nPCD + Informações: (65) 9.9224-2329 (atendimento 09h00 as 18h00) \nGratuidade para Deficientes Físicos\, Autismo e Idosos acima de 65 anos\nEm entendimento a Lei nº 5.634 de 21 de Janeiro de 2013 art. 2º a comprovação da deficiência do beneficiário desta Lei será feita mediante apresentação da carteira da entidade que o represente ou que os assistam.\nTem Direito a Acompanhante:\n– Carteira da Associação se estiver escrito que tem direito a acompanhante.\n– Deficiente Visual independente se tiver a observação de acompanhante\n– Deficiente com dificuldade motora (cadeirante) independente se tiver a observação de acompanhante.\nA gratuidade de ingresso serão emitidas no dia na Bilheteria.\nNão aceita laudo e nem carteirinha de ônibus. \nQuem tem DIREITO a MEIA ENTRADA: \n– Estudantes\n– Doador de Sangue ou Medula – Carteira de Doador\n– Professor – Holerite ou Carteira da Associação ou Sindicato)\n– Idoso entre 60 a 65 anos\n– Aposentados\n– Jovem da Baixa Renda\n– Portadores de Câncer e Doenças Degenerativas\n– Portador do Cartão ID Jovem com validade vigente na data do jogo\n– Radialista e Jornalista conforme Lei Municipal 5.497 de 6 de dezembro de 2011)\n– PCD \nCASA DE FESTAS \n LOJA 1 Pantanal Shopping\, Piso 2 ao lado da Riachuelo\natendimento 10h as 20h segunda a sábado\, domingo fechado\nAv. Historiador Rubens de Mendonça. 3300\nJardim Aclimação\nCuiabá/MT\n Inf. (65) 9.9953-1935 \n LOJA 2 Coxipó\, Salão Ampliato\natendimento 9h as 19h\, segunda a sábado\, domingo fechado\nAv. Tancredo Neves\, 631 (Córrego do Barbado)\nJardim Petrópolis\nCuiabá/MT\n Inf. (65) 9.9953-1935 \nTemos ON LINE e o serviço DISK INGRESSO\natendimento 10h as 18h segunda a sexta\n*disk ingresso consulte a taxa do motoboy\n*on-line cliente recebera ingresso sms e e-mail e pagamento via pix\nCaso queira adquirir seu ingresso pelo nosso WhatsApp cliente receberá sms e e-mail (alguns eventos) e outros deixamos separados após pagamento para retirada pelo mesmo.\natendimento 10h as 20h segunda a sábado\n Informações: (65) 9.9953-1935 \nQuem Dita Tendência. Compra Antecipado!!!
URL:https://www.casadefestas.net/evento/bloco-beijo-me-liga-2026-16h/
LOCATION:PRAÇA DO FESTIVAL DE CHAPADA DOS GUIMARAES\, Av. Penn Gomes\, 271\, Centro\, CHAPADA DOS GUIMARÁES\, MATO GROSSO\, 78195-000\, Brazil
CATEGORIES:Carnaval Chapada 2026
ATTACH;FMTTYPE=image/jpeg:https://www.casadefestas.net/wp-content/uploads/2025/11/WhatsApp-Image-2026-01-22-at-08.07.27.jpeg
END:VEVENT
BEGIN:VEVENT
DTSTART;VALUE=DATE:20260214
DTEND;VALUE=DATE:20260215
DTSTAMP:20260421T093729
CREATED:20251209T150112Z
LAST-MODIFIED:20260203T181408Z
UID:14257-1771027200-1771113599@www.casadefestas.net
SUMMARY:BLOCO TURMA DA LAJE - CARNAVAL 2026
DESCRIPTION:1 de 1\n                                \n                                    \n                                    \n                                \n                            \n                        \n\n                        \n                            \n                                \n                    \n                        \n                            \n                                \n                            \n                            \n                        \n                    \n                            \n                        \n\n                        \n                            \n                                \n                    \n                        \n                    \n                            \n                        \n\n                    \n\n                \n                \n•Crianças até 06 anos não pagam! (Não tem direito a abadá) \n•De 07 a 11 anos pagam taxa do Abadá R$ 80\,00 (Direito a abadá) \n•De 12 anos em diante pagam meia (Direito a abadá) \n•PCD – Pagam o abadá R$ 80\,00 (Taxa serviço Abadá) \nOu seja\, a taxa de serviço que será o ABADÁ vai ser R$ 80\,00 \n\n Formas de Pagamento: Dinheiro e tem acréscimo no Pix\, Cartão Débito e Crédito (lei 13455 de 26 de junho de 2017)\n\n Atenção – Valores acima podem sofrer alteração a qualquer momento sem aviso prévio. \n\nPCD + Informações: (65) 9.9267-7396 (atendimento 09h00 as 18h00) \nGratuidade para Deficientes Físicos\, Autismo e Idosos acima de 65 anos\nEm entendimento a Lei nº 5.634 de 21 de Janeiro de 2013 art. 2º a comprovação da deficiência do beneficiário desta Lei será feita mediante apresentação da carteira da entidade que o represente ou que os assistam.\nTem Direito a Acompanhante:\n– Carteira da Associação se estiver escrito que tem direito a acompanhante.\n– Deficiente Visual independente se tiver a observação de acompanhante\n– Deficiente com dificuldade motora (cadeirante) independente se tiver a observação de acompanhante.\nA gratuidade de ingresso serão emitidas no dia na Bilheteria.\nNão aceita laudo e nem carteirinha de ônibus. \nQuem tem DIREITO a MEIA ENTRADA: \n– Estudantes\n– Doador de Sangue ou Medula – Carteira de Doador\n– Professor – Holerite ou Carteira da Associação ou Sindicato)\n– Idoso entre 60 a 65 anos\n– Aposentados\n– Jovem da Baixa Renda\n– Portadores de Câncer e Doenças Degenerativas\n– Portador do Cartão ID Jovem com validade vigente na data do jogo\n– Radialista e Jornalista conforme Lei Municipal 5.497 de 6 de dezembro de 2011)\n– PCD \nCASA DE FESTAS \n LOJA 1 Pantanal Shopping\, Piso 2 ao lado da Riachuelo\natendimento 10h as 20h segunda a sábado\, domingo fechado\nAv. Historiador Rubens de Mendonça. 3300\nJardim Aclimação\nCuiabá/MT\n Inf. (65) 9.9953-1935 \n LOJA 2 Coxipó\, Salão Ampliato\natendimento 9h as 19h\, segunda a sábado\, domingo fechado\nAv. Tancredo Neves\, 631 (Córrego do Barbado)\nJardim Petrópolis\nCuiabá/MT\n Inf. (65) 9.9953-1935 \nTemos ON LINE e o serviço DISK INGRESSO\natendimento 10h as 18h segunda a sexta\n*disk ingresso consulte a taxa do motoboy\n*on-line cliente recebera ingresso sms e e-mail e pagamento via pix\nCaso queira adquirir seu ingresso pelo nosso WhatsApp cliente receberá sms e e-mail (alguns eventos) e outros deixamos separados após pagamento para retirada pelo mesmo.\natendimento 10h as 20h segunda a sábado\n Informações: (65) 9.9953-1935 \nQuem Dita Tendência. Compra Antecipado!!!
URL:https://www.casadefestas.net/evento/bloco-turma-da-laje-carnaval-2026/
LOCATION:Allure Music Hall\, Rodovia Helder Cândia\, 2.044 - Ribeirão do Lipa\, Cuiabá - MT\, 78048-150\, Cuiabá\, MT\, 78048-150\, Brazil
CATEGORIES:Allure Music Hall
ATTACH;FMTTYPE=image/jpeg:https://www.casadefestas.net/wp-content/uploads/2025/12/WhatsApp-Image-2026-01-09-at-14.02.28.jpeg
END:VEVENT
END:VCALENDAR