BEGIN:VCALENDAR
VERSION:2.0
PRODID:-//Casa de Festas - Cuiabá - ECPv6.15.13.1//NONSGML v1.0//EN
CALSCALE:GREGORIAN
METHOD:PUBLISH
X-ORIGINAL-URL:https://www.casadefestas.net
X-WR-CALDESC:Eventos para Casa de Festas - Cuiabá
REFRESH-INTERVAL;VALUE=DURATION:PT1H
X-Robots-Tag:noindex
X-PUBLISHED-TTL:PT1H
BEGIN:VTIMEZONE
TZID:America/Cuiaba
BEGIN:STANDARD
TZOFFSETFROM:-0400
TZOFFSETTO:-0400
TZNAME:-04
DTSTART:20240101T000000
END:STANDARD
END:VTIMEZONE
BEGIN:VEVENT
DTSTART;VALUE=DATE:20251231
DTEND;VALUE=DATE:20260101
DTSTAMP:20260421T063445
CREATED:20250918T194347Z
LAST-MODIFIED:20251230T194331Z
UID:12502-1767139200-1767225599@www.casadefestas.net
SUMMARY:REVEIILON ALLURE MUSIC HALL — 2026
DESCRIPTION:Mapa 1º Réveillon Allure Music Hall\n\n                            \n                                1 de 7\n                                \n                                    \n                                    \n                                \n                            \n                        \n\n                        \n                            \n                                \n                    \n                        \n                            \n                                \n                            \n                            \n                        \n                    \n                    \n                        \n                            \n                                \n                            \n                            \n                        \n                    \n                    \n                        \n                            \n                                \n                            \n                            \n                        \n                    \n                    \n                        \n                            \n                                \n                            \n                            \n                        \n                    \n                    \n                        \n                            \n                                \n                            \n                            \n                        \n                    \n                    \n                        \n                            \n                                \n                            \n                            \n                        \n                    \n                    \n                        \n                            \n                                \n                            \n                            \n                        \n                    \n                            \n                        \n\n                        \n                            \n                                \n                    \n                        \n                    \n                    \n                        \n                    \n                    \n                        \n                    \n                    \n                        \n                    \n                    \n                        \n                    \n                    \n                        \n                    \n                    \n                        \n                    \n                            \n                        \n\n                    \n\n                \n                \n\n• O valor da mesa é para 6 lugares\, valores para ingressos infantis serão cobrados a parte da mesa.\n• Crianças até 06 anos não pagam\, de 07 à 11 anos pagam meia\, acima de 12 anos pagam inteira.\n• Buffet incluso no valor do ingresso\n• Espaço Kids gratuito (sem monitor)\n• Bebidas serão vendidas à parte\n\n\n Formas de Pagamento: Dinheiro e tem acréscimo no Pix\, Cartão Débito e Crédito (lei 13455 de 26 de junho de 2017)\n\n Atenção – Valores acima podem sofrer alteração a qualquer momento sem aviso prévio. \n\nPCD + Informações: (65) 9.9267-7396 (atendimento 09h00 as 18h00) \nGratuidade para Deficientes Físicos\, Autismo e Idosos acima de 65 anos\nEm entendimento a Lei nº 5.634 de 21 de Janeiro de 2013 art. 2º a comprovação da deficiência do beneficiário desta Lei será feita mediante apresentação da carteira da entidade que o represente ou que os assistam.\nTem Direito a Acompanhante:\n– Carteira da Associação se estiver escrito que tem direito a acompanhante.\n– Deficiente Visual independente se tiver a observação de acompanhante\n– Deficiente com dificuldade motora (cadeirante) independente se tiver a observação de acompanhante.\nA gratuidade de ingresso serão emitidas no dia na Bilheteria.\nNão aceita laudo e nem carteirinha de ônibus. \nQuem tem DIREITO a MEIA ENTRADA: \n– Estudantes\n– Doador de Sangue ou Medula – Carteira de Doador\n– Professor – Holerite ou Carteira da Associação ou Sindicato)\n– Idoso entre 60 a 65 anos\n– Aposentados\n– Jovem da Baixa Renda\n– Portadores de Câncer e Doenças Degenerativas\n– Portador do Cartão ID Jovem com validade vigente na data do jogo\n– Radialista e Jornalista conforme Lei Municipal 5.497 de 6 de dezembro de 2011)\n– PCD \nCASA DE FESTAS \n LOJA 1 Pantanal Shopping\, Piso 2 ao lado da Riachuelo\natendimento 10h as 20h segunda a sábado\, domingo fechado\nAv. Historiador Rubens de Mendonça. 3300\nJardim Aclimação\nCuiabá/MT\n Inf. (65) 9.9953-1935 \n LOJA 2 Coxipó\, Salão Ampliato\natendimento 9h as 19h\, segunda a sábado\, domingo fechado\nAv. Tancredo Neves\, 631 (Córrego do Barbado)\nJardim Petrópolis\nCuiabá/MT\n Inf. (65) 9.9953-1935 \nTemos ON LINE e o serviço DISK INGRESSO\natendimento 10h as 18h segunda a sexta\n*disk ingresso consulte a taxa do motoboy\n*on-line cliente recebera ingresso sms e e-mail e pagamento via pix\nCaso queira adquirir seu ingresso pelo nosso WhatsApp cliente receberá sms e e-mail (alguns eventos) e outros deixamos separados após pagamento para retirada pelo mesmo.\natendimento 10h as 20h segunda a sábado\n Informações: (65) 9.9953-1935 \nQuem Dita Tendência. Compra Antecipado!!!
URL:https://www.casadefestas.net/evento/1-reveillon-allure-music-hall-2026/
LOCATION:Allure Music Hall\, Rodovia Helder Cândia\, 2.044 - Ribeirão do Lipa\, Cuiabá - MT\, 78048-150\, Cuiabá\, MT\, 78048-150\, Brazil
CATEGORIES:Allure Music Hall
ATTACH;FMTTYPE=image/jpeg:https://www.casadefestas.net/wp-content/uploads/2025/09/20251028121145300.jpeg
END:VEVENT
BEGIN:VEVENT
DTSTART;VALUE=DATE:20251231
DTEND;VALUE=DATE:20260101
DTSTAMP:20260421T063445
CREATED:20250918T195010Z
LAST-MODIFIED:20251230T223342Z
UID:12509-1767139200-1767225599@www.casadefestas.net
SUMMARY:GEORGE HENRIQUE E RODRIGO - RÉVEILLON NAS ALTURAS
DESCRIPTION:1 de 1\n                                \n                                    \n                                    \n                                \n                            \n                        \n\n                        \n                            \n                                \n                    \n                        \n                            \n                                \n                            \n                            \n                        \n                    \n                            \n                        \n\n                        \n                            \n                                \n                    \n                        \n                    \n                            \n                        \n\n                    \n\n                \n                \n\n🍻3hrs de open bar cerveja refri e água e open food finger foods.\n* criança ate 3 anos não paga.\n* pcd e acompanhante pagam taxa de serviço $100 na entrada do evento.\n* Solidária 1kg de alimento na entrada do evento\n* taxa de serviço open bar chopp\, água e refri e finger food \n\n Formas de Pagamento: Dinheiro\, Pix e tem acréscimo no Cartão Débito e Crédito (lei 13455 de 26 de junho de 2017)\n\n Atenção – Valores acima podem sofrer alteração a qualquer momento sem aviso prévio. \n\nPCD + Informações: (65) 9.9227-2375 (atendimento 09h00 as 18h00) \nGratuidade para Deficientes Físicos\, Autismo e Idosos acima de 65 anos\nEm entendimento a Lei nº 5.634 de 21 de Janeiro de 2013 art. 2º a comprovação da deficiência do beneficiário desta Lei será feita mediante apresentação da carteira da entidade que o represente ou que os assistam.\nTem Direito a Acompanhante:\n– Carteira da Associação se estiver escrito que tem direito a acompanhante.\n– Deficiente Visual independente se tiver a observação de acompanhante\n– Deficiente com dificuldade motora (cadeirante) independente se tiver a observação de acompanhante.\nA gratuidade de ingresso serão emitidas no dia na Bilheteria.\nNão aceita laudo e nem carteirinha de ônibus. \nQuem tem DIREITO a MEIA ENTRADA: \n– Estudantes\n– Doador de Sangue ou Medula – Carteira de Doador\n– Professor – Holerite ou Carteira da Associação ou Sindicato)\n– Idoso entre 60 a 65 anos\n– Aposentados\n– Jovem da Baixa Renda\n– Portadores de Câncer e Doenças Degenerativas\n– Portador do Cartão ID Jovem com validade vigente na data do jogo\n– Radialista e Jornalista conforme Lei Municipal 5.497 de 6 de dezembro de 2011)\n– PCD \nCASA DE FESTAS \n LOJA 1 Pantanal Shopping\, Piso 2 ao lado da Riachuelo\natendimento 10h as 20h segunda a sábado\, domingo fechado\nAv. Historiador Rubens de Mendonça. 3300\nJardim Aclimação\nCuiabá/MT\n Inf. (65) 9.9953-1935 \n LOJA 2 Coxipó\, Salão Ampliato\natendimento 9h as 19h\, segunda a sábado\, domingo fechado\nAv. Tancredo Neves\, 631 (Córrego do Barbado)\nJardim Petrópolis\nCuiabá/MT\n Inf. (65) 9.9953-1935 \nTemos ON LINE e o serviço DISK INGRESSO\natendimento 10h as 18h segunda a sexta\n*disk ingresso consulte a taxa do motoboy\n*on-line cliente recebera ingresso sms e e-mail e pagamento via pix\nCaso queira adquirir seu ingresso pelo nosso WhatsApp cliente receberá sms e e-mail (alguns eventos) e outros deixamos separados após pagamento para retirada pelo mesmo.\natendimento 10h as 20h segunda a sábado\n Informações: (65) 9.9953-1935 \nQuem Dita Tendência. Compra Antecipado!!!
URL:https://www.casadefestas.net/evento/reveillon-nas-alturas-com-george-henrique-e-rodrigo/
LOCATION:Praça de Eventos em Chapada dos Guimarães\, 341\, Av. Penn Gomes\, 271\, Chapada dos Guimarães\, MT\, 78195-000\, Brazil
CATEGORIES:Réveillon Nas Alturas
ATTACH;FMTTYPE=image/jpeg:https://www.casadefestas.net/wp-content/uploads/2025/09/image-4.jpeg
END:VEVENT
BEGIN:VEVENT
DTSTART;VALUE=DATE:20251231
DTEND;VALUE=DATE:20260101
DTSTAMP:20260421T063445
CREATED:20251112T173246Z
LAST-MODIFIED:20251231T215812Z
UID:13677-1767139200-1767225599@www.casadefestas.net
SUMMARY:REVEILLON PRIME LUZZEM - 22h
DESCRIPTION:Mapa\n\n                            \n                                1 de 1\n                                \n                                    \n                                    \n                                \n                            \n                        \n\n                        \n                            \n                                \n                    \n                        \n                            \n                                \n                            \n                            Mapa\n                        \n                    \n                            \n                        \n\n                        \n                            \n                                \n                    \n                        \n                    \n                            \n                        \n\n                    \n\n                \n                \n Formas de Pagamento: Dinheiro\, Pix e tem acréscimo no Cartão Débito e Crédito (lei 13455 de 26 de junho de 2017)\n\n Atenção – Valores acima podem sofrer alteração a qualquer momento sem aviso prévio. \n\nPCD + Informações: (65) 9.9948-5243 (atendimento 09h00 as 18h00) \nGratuidade para Deficientes Físicos\, Autismo e Idosos acima de 65 anos\nEm entendimento a Lei nº 5.634 de 21 de Janeiro de 2013 art. 2º a comprovação da deficiência do beneficiário desta Lei será feita mediante apresentação da carteira da entidade que o represente ou que os assistam.\nTem Direito a Acompanhante:\n– Carteira da Associação se estiver escrito que tem direito a acompanhante.\n– Deficiente Visual independente se tiver a observação de acompanhante\n– Deficiente com dificuldade motora (cadeirante) independente se tiver a observação de acompanhante.\nA gratuidade de ingresso serão emitidas no dia na Bilheteria.\nNão aceita laudo e nem carteirinha de ônibus. \nQuem tem DIREITO a MEIA ENTRADA: \n– Estudantes\n– Doador de Sangue ou Medula – Carteira de Doador\n– Professor – Holerite ou Carteira da Associação ou Sindicato)\n– Idoso entre 60 a 65 anos\n– Aposentados\n– Jovem da Baixa Renda\n– Portadores de Câncer e Doenças Degenerativas\n– Portador do Cartão ID Jovem com validade vigente na data do jogo\n– Radialista e Jornalista conforme Lei Municipal 5.497 de 6 de dezembro de 2011)\n– PCD \nCASA DE FESTAS \n LOJA 1 Pantanal Shopping\, Piso 2 ao lado da Riachuelo\natendimento 10h as 20h segunda a sábado\, domingo fechado\nAv. Historiador Rubens de Mendonça. 3300\nJardim Aclimação\nCuiabá/MT\n Inf. (65) 9.9953-1935 \n LOJA 2 Coxipó\, Salão Ampliato\natendimento 9h as 19h\, segunda a sábado\, domingo fechado\nAv. Tancredo Neves\, 631 (Córrego do Barbado)\nJardim Petrópolis\nCuiabá/MT\n Inf. (65) 9.9953-1935 \nTemos ON LINE e o serviço DISK INGRESSO\natendimento 10h as 18h segunda a sexta\n*disk ingresso consulte a taxa do motoboy\n*on-line cliente recebera ingresso sms e e-mail e pagamento via pix\nCaso queira adquirir seu ingresso pelo nosso WhatsApp cliente receberá sms e e-mail (alguns eventos) e outros deixamos separados após pagamento para retirada pelo mesmo.\natendimento 10h as 20h segunda a sábado\n Informações: (65) 9.9953-1935 \nQuem Dita Tendência. Compra Antecipado!!!
URL:https://www.casadefestas.net/evento/reveillon-prime-luzzem-22h/
LOCATION:LUZZEM\, Av. Carmindo de Campos\, 1539 - Campo Velho\, CUIABÁ\, MATO GROSSO\, 78065-310\, Brazil
CATEGORIES:Luzzem
ATTACH;FMTTYPE=image/png:https://www.casadefestas.net/wp-content/uploads/2025/11/IMG_1982.png
END:VEVENT
BEGIN:VEVENT
DTSTART;VALUE=DATE:20251231
DTEND;VALUE=DATE:20260101
DTSTAMP:20260421T063445
CREATED:20251117T153834Z
LAST-MODIFIED:20251202T193938Z
UID:13767-1767139200-1767225599@www.casadefestas.net
SUMMARY:REVEILLON DELUXE - 21h
DESCRIPTION:1 de 1\n                                \n                                    \n                                    \n                                \n                            \n                        \n\n                        \n                            \n                                \n                    \n                        \n                            \n                                \n                            \n                            \n                        \n                    \n                            \n                        \n\n                        \n                            \n                                \n                    \n                        \n                    \n                            \n                        \n\n                    \n\n                \n                \nMAIS INFORMAÇÕES EM BREVE. \n\n Formas de Pagamento: Dinheiro e tem acréscimo no Pix\, Cartão Débito e Crédito (lei 13455 de 26 de junho de 2017)\n\n Atenção – Valores acima podem sofrer alteração a qualquer momento sem aviso prévio. \n\nPCD + Informações: (65) 9.xxxx-xxxx (atendimento 09h00 as 18h00) \nGratuidade para Deficientes Físicos\, Autismo e Idosos acima de 65 anos\nEm entendimento a Lei nº 5.634 de 21 de Janeiro de 2013 art. 2º a comprovação da deficiência do beneficiário desta Lei será feita mediante apresentação da carteira da entidade que o represente ou que os assistam.\nTem Direito a Acompanhante:\n– Carteira da Associação se estiver escrito que tem direito a acompanhante.\n– Deficiente Visual independente se tiver a observação de acompanhante\n– Deficiente com dificuldade motora (cadeirante) independente se tiver a observação de acompanhante.\nA gratuidade de ingresso serão emitidas no dia na Bilheteria.\nNão aceita laudo e nem carteirinha de ônibus. \nQuem tem DIREITO a MEIA ENTRADA: \n– Estudantes\n– Doador de Sangue ou Medula – Carteira de Doador\n– Professor – Holerite ou Carteira da Associação ou Sindicato)\n– Idoso entre 60 a 65 anos\n– Aposentados\n– Jovem da Baixa Renda\n– Portadores de Câncer e Doenças Degenerativas\n– Portador do Cartão ID Jovem com validade vigente na data do jogo\n– Radialista e Jornalista conforme Lei Municipal 5.497 de 6 de dezembro de 2011)\n– PCD \nCASA DE FESTAS \n LOJA 1 Pantanal Shopping\, Piso 2 ao lado da Riachuelo\natendimento 10h as 20h segunda a sábado\, domingo fechado\nAv. Historiador Rubens de Mendonça. 3300\nJardim Aclimação\nCuiabá/MT\n Inf. (65) 9.9953-1935 \n LOJA 2 Coxipó\, Salão Ampliato\natendimento 9h as 19h\, segunda a sábado\, domingo fechado\nAv. Tancredo Neves\, 631 (Córrego do Barbado)\nJardim Petrópolis\nCuiabá/MT\n Inf. (65) 9.9953-1935 \nTemos ON LINE e o serviço DISK INGRESSO\natendimento 10h as 18h segunda a sexta\n*disk ingresso consulte a taxa do motoboy\n*on-line cliente recebera ingresso sms e e-mail e pagamento via pix\nCaso queira adquirir seu ingresso pelo nosso WhatsApp cliente receberá sms e e-mail (alguns eventos) e outros deixamos separados após pagamento para retirada pelo mesmo.\natendimento 10h as 20h segunda a sábado\n Informações: (65) 9.9953-1935 \nQuem Dita Tendência. Compra Antecipado!!!
URL:https://www.casadefestas.net/evento/reveillon-deluxe-22h/
LOCATION:CT BEIRA RIO\, Brazil
ATTACH;FMTTYPE=image/jpeg:https://www.casadefestas.net/wp-content/uploads/2025/11/WhatsApp-Image-2025-11-17-at-11.26.44.jpg
END:VEVENT
BEGIN:VEVENT
DTSTART;VALUE=DATE:20251231
DTEND;VALUE=DATE:20260101
DTSTAMP:20260421T063445
CREATED:20251124T210422Z
LAST-MODIFIED:20251229T184516Z
UID:13907-1767139200-1767225599@www.casadefestas.net
SUMMARY:REVEILLON 2026 LUA MORENA - 21h
DESCRIPTION:1 de 1\n                                \n                                    \n                                    \n                                \n                            \n                        \n\n                        \n                            \n                                \n                    \n                        \n                            \n                                \n                            \n                            \n                        \n                    \n                            \n                        \n\n                        \n                            \n                                \n                    \n                        \n                    \n                            \n                        \n\n                    \n\n                \n                \n\n Formas de Pagamento: Dinheiro\, Pix e tem acréscimo no Cartão Débito e Crédito (lei 13455 de 26 de junho de 2017)\n\n Atenção – Valores acima podem sofrer alteração a qualquer momento sem aviso prévio. \n\nPCD + Informações: Tania (65) 9.9946-6305 (atendimento 09h00 as 18h00) \nGratuidade para Deficientes Físicos\, Autismo e Idosos acima de 65 anos\nEm entendimento a Lei nº 5.634 de 21 de Janeiro de 2013 art. 2º a comprovação da deficiência do beneficiário desta Lei será feita mediante apresentação da carteira da entidade que o represente ou que os assistam.\nTem Direito a Acompanhante:\n– Carteira da Associação se estiver escrito que tem direito a acompanhante.\n– Deficiente Visual independente se tiver a observação de acompanhante\n– Deficiente com dificuldade motora (cadeirante) independente se tiver a observação de acompanhante.\nA gratuidade de ingresso serão emitidas no dia na Bilheteria.\nNão aceita laudo e nem carteirinha de ônibus. \nQuem tem DIREITO a MEIA ENTRADA: \n– Estudantes\n– Doador de Sangue ou Medula – Carteira de Doador\n– Professor – Holerite ou Carteira da Associação ou Sindicato)\n– Idoso entre 60 a 65 anos\n– Aposentados\n– Jovem da Baixa Renda\n– Portadores de Câncer e Doenças Degenerativas\n– Portador do Cartão ID Jovem com validade vigente na data do jogo\n– Radialista e Jornalista conforme Lei Municipal 5.497 de 6 de dezembro de 2011)\n– PCD \nCASA DE FESTAS \n LOJA 1 Pantanal Shopping\, Piso 2 ao lado da Riachuelo\natendimento 10h as 20h segunda a sábado\, domingo fechado\nAv. Historiador Rubens de Mendonça. 3300\nJardim Aclimação\nCuiabá/MT\n Inf. (65) 9.9953-1935 \n LOJA 2 Coxipó\, Salão Ampliato\natendimento 9h as 19h\, segunda a sábado\, domingo fechado\nAv. Tancredo Neves\, 631 (Córrego do Barbado)\nJardim Petrópolis\nCuiabá/MT\n Inf. (65) 9.9953-1935 \nTemos ON LINE e o serviço DISK INGRESSO\natendimento 10h as 18h segunda a sexta\n*disk ingresso consulte a taxa do motoboy\n*on-line cliente recebera ingresso sms e e-mail e pagamento via pix\nCaso queira adquirir seu ingresso pelo nosso WhatsApp cliente receberá sms e e-mail (alguns eventos) e outros deixamos separados após pagamento para retirada pelo mesmo.\natendimento 10h as 20h segunda a sábado\n Informações: (65) 9.9953-1935 \nQuem Dita Tendência. Compra Antecipado!!!
URL:https://www.casadefestas.net/evento/reveillon-2026-lua-morena-21h/
CATEGORIES:Lua Morena
ATTACH;FMTTYPE=image/jpeg:https://www.casadefestas.net/wp-content/uploads/2025/11/image-2-2.jpeg
END:VEVENT
BEGIN:VEVENT
DTSTART;VALUE=DATE:20251231
DTEND;VALUE=DATE:20260101
DTSTAMP:20260421T063445
CREATED:20251218T143310Z
LAST-MODIFIED:20251218T143310Z
UID:14393-1767139200-1767225599@www.casadefestas.net
SUMMARY:REVEILLON DO GG (GERÔNIMO WEST MUSIC)
DESCRIPTION:1 de 5\n                                \n                                    \n                                    \n                                \n                            \n                        \n\n                        \n                            \n                                \n                    \n                        \n                            \n                                \n                            \n                            \n                        \n                    \n                    \n                        \n                            \n                                \n                            \n                            \n                        \n                    \n                    \n                        \n                            \n                                \n                            \n                            \n                        \n                    \n                    \n                        \n                            \n                                \n                            \n                            \n                        \n                    \n                    \n                        \n                            \n                                \n                            \n                            \n                        \n                    \n                            \n                        \n\n                        \n                            \n                                \n                    \n                        \n                    \n                    \n                        \n                    \n                    \n                        \n                    \n                    \n                        \n                    \n                    \n                        \n                    \n                            \n                        \n\n                    \n\n                \n                \n\n🥃DESTILADO LIBERADO A NOITE TODA \nÁREA VIP E CAMAROTE 10 HORAS DE OPEN BAR COM CANECA \nCerveja Original\, Whisky\, Vodka\, Gin\, Energético\, Refrigerante e Água. \n\n Formas de Pagamento: Dinheiro e tem acréscimo no Pix\, Cartão Débito e Crédito (lei 13455 de 26 de junho de 2017)\n\n Atenção – Valores acima podem sofrer alteração a qualquer momento sem aviso prévio. \n\nPCD + Informações: (65) 9.8151-0474 (atendimento 09h00 as 18h00) \nGratuidade para Deficientes Físicos\, Autismo e Idosos acima de 65 anos\nEm entendimento a Lei nº 5.634 de 21 de Janeiro de 2013 art. 2º a comprovação da deficiência do beneficiário desta Lei será feita mediante apresentação da carteira da entidade que o represente ou que os assistam.\nTem Direito a Acompanhante:\n– Carteira da Associação se estiver escrito que tem direito a acompanhante.\n– Deficiente Visual independente se tiver a observação de acompanhante\n– Deficiente com dificuldade motora (cadeirante) independente se tiver a observação de acompanhante.\nA gratuidade de ingresso serão emitidas no dia na Bilheteria.\nNão aceita laudo e nem carteirinha de ônibus. \nQuem tem DIREITO a MEIA ENTRADA: \n– Estudantes\n– Doador de Sangue ou Medula – Carteira de Doador\n– Professor – Holerite ou Carteira da Associação ou Sindicato)\n– Idoso entre 60 a 65 anos\n– Aposentados\n– Jovem da Baixa Renda\n– Portadores de Câncer e Doenças Degenerativas\n– Portador do Cartão ID Jovem com validade vigente na data do jogo\n– Radialista e Jornalista conforme Lei Municipal 5.497 de 6 de dezembro de 2011)\n– PCD \nCASA DE FESTAS \n LOJA 1 Pantanal Shopping\, Piso 2 ao lado da Riachuelo\natendimento 10h as 20h segunda a sábado\, domingo fechado\nAv. Historiador Rubens de Mendonça. 3300\nJardim Aclimação\nCuiabá/MT\n Inf. (65) 9.9953-1935 \n LOJA 2 Coxipó\, Salão Ampliato\natendimento 9h as 19h\, segunda a sábado\, domingo fechado\nAv. Tancredo Neves\, 631 (Córrego do Barbado)\nJardim Petrópolis\nCuiabá/MT\n Inf. (65) 9.9953-1935 \nTemos ON LINE e o serviço DISK INGRESSO\natendimento 10h as 18h segunda a sexta\n*disk ingresso consulte a taxa do motoboy\n*on-line cliente recebera ingresso sms e e-mail e pagamento via pix\nCaso queira adquirir seu ingresso pelo nosso WhatsApp cliente receberá sms e e-mail (alguns eventos) e outros deixamos separados após pagamento para retirada pelo mesmo.\natendimento 10h as 20h segunda a sábado\n Informações: (65) 9.9953-1935 \nQuem Dita Tendência. Compra Antecipado!!!
URL:https://www.casadefestas.net/evento/reveillon-do-gg-geronimo-west-music/
LOCATION:Gerônimo West Music\, R. Mal. Floriano Peixoto\, 401 - Centro\, Cuiabá\, Mato Grosso\, 78045-310\, Brazil
ATTACH;FMTTYPE=image/jpeg:https://www.casadefestas.net/wp-content/uploads/2025/12/WhatsApp-Image-2025-12-17-at-17.24.32-1.jpeg
END:VEVENT
END:VCALENDAR