BEGIN:VCALENDAR
VERSION:2.0
PRODID:-//Casa de Festas - Cuiabá - ECPv6.15.13.1//NONSGML v1.0//EN
CALSCALE:GREGORIAN
METHOD:PUBLISH
X-WR-CALNAME:Casa de Festas - Cuiabá
X-ORIGINAL-URL:https://www.casadefestas.net
X-WR-CALDESC:Eventos para Casa de Festas - Cuiabá
REFRESH-INTERVAL;VALUE=DURATION:PT1H
X-Robots-Tag:noindex
X-PUBLISHED-TTL:PT1H
BEGIN:VTIMEZONE
TZID:America/Cuiaba
BEGIN:STANDARD
TZOFFSETFROM:-0400
TZOFFSETTO:-0400
TZNAME:-04
DTSTART:20240101T000000
END:STANDARD
END:VTIMEZONE
BEGIN:VEVENT
DTSTART;VALUE=DATE:20251129
DTEND;VALUE=DATE:20251130
DTSTAMP:20260421T062955
CREATED:20250920T203739Z
LAST-MODIFIED:20251129T223350Z
UID:12533-1764374400-1764460799@www.casadefestas.net
SUMMARY:Zeze Di Camargo & Luciano na Allure Music Hall
DESCRIPTION:1 de 3\n                                \n                                    \n                                    \n                                \n                            \n                        \n\n                        \n                            \n                                \n                    \n                        \n                            \n                                \n                            \n                            \n                        \n                    \n                    \n                        \n                            \n                                \n                            \n                            \n                        \n                    \n                    \n                        \n                            \n                                \n                            \n                            \n                        \n                    \n                            \n                        \n\n                        \n                            \n                                \n                    \n                        \n                    \n                    \n                        \n                    \n                    \n                        \n                    \n                            \n                        \n\n                    \n\n                \n                \n\n Formas de Pagamento: Dinheiro e tem acréscimo no Pix\, Cartão Débito e Crédito (lei 13455 de 26 de junho de 2017)\n\n Atenção – Valores acima podem sofrer alteração a qualquer momento sem aviso prévio. \n\nPCD + Informações: (65) 9.9267-7396 (atendimento 09h00 as 18h00) \nGratuidade para Deficientes Físicos\, Autismo e Idosos acima de 65 anos\nEm entendimento a Lei nº 5.634 de 21 de Janeiro de 2013 art. 2º a comprovação da deficiência do beneficiário desta Lei será feita mediante apresentação da carteira da entidade que o represente ou que os assistam.\nTem Direito a Acompanhante:\n– Carteira da Associação se estiver escrito que tem direito a acompanhante.\n– Deficiente Visual independente se tiver a observação de acompanhante\n– Deficiente com dificuldade motora (cadeirante) independente se tiver a observação de acompanhante.\nA gratuidade de ingresso serão emitidas no dia na Bilheteria.\nNão aceita laudo e nem carteirinha de ônibus. \nQuem tem DIREITO a MEIA ENTRADA: \n– Estudantes\n– Doador de Sangue ou Medula – Carteira de Doador\n– Professor – Holerite ou Carteira da Associação ou Sindicato)\n– Idoso entre 60 a 65 anos\n– Aposentados\n– Jovem da Baixa Renda\n– Portadores de Câncer e Doenças Degenerativas\n– Portador do Cartão ID Jovem com validade vigente na data do jogo\n– Radialista e Jornalista conforme Lei Municipal 5.497 de 6 de dezembro de 2011)\n– PCD \nCASA DE FESTAS \n LOJA 1 Pantanal Shopping\, Piso 2 ao lado da Riachuelo\natendimento 10h as 20h segunda a sábado\, domingo fechado\nAv. Historiador Rubens de Mendonça. 3300\nJardim Aclimação\nCuiabá/MT\n Inf. (65) 9.9953-1935 \n LOJA 2 Várzea Grande Shopping\, Abrantes Barbearia (alameda de serviço)\natendimento 10h as 20h segunda a sábado\, domingo fechado\nAv. Presidente Artur Bernardes\, 43\nCentro Sul\nVárzea Grande/MT\n Inf. (65) 9.9953-1935 \n LOJA 3 Coxipó\, Salão Ampliato\natendimento 9h as 19h\, segunda a sábado\, domingo fechado\nAv. Tancredo Neves\, 631 (Córrego do Barbado)\nJardim Petrópolis\nCuiabá/MT\n Inf. (65) 9.9953-1935 \nTemos ON LINE e o serviço DISK INGRESSO\natendimento 10h as 18h segunda a sexta\n*disk ingresso consulte a taxa do motoboy\n*on-line cliente recebera ingresso sms e e-mail e pagamento via pix\nCaso queira adquirir seu ingresso pelo nosso WhatsApp cliente receberá sms e e-mail (alguns eventos) e outros deixamos separados após pagamento para retirada pelo mesmo.\natendimento 10h as 20h segunda a sábado\n Informações: (65) 9.9953-1935 \nQuem Dita Tendência. Compra Antecipado!!!
URL:https://www.casadefestas.net/evento/zeze-di-camargo-luciano-na-allure-music-hall/
LOCATION:Allure Music Hall\, Rodovia Helder Cândia\, 2.044 - Ribeirão do Lipa\, Cuiabá - MT\, 78048-150\, Cuiabá\, MT\, 78048-150\, Brazil
CATEGORIES:Allure Music Hall
ATTACH;FMTTYPE=image/jpeg:https://www.casadefestas.net/wp-content/uploads/2025/09/20250909191058857.jpeg
END:VEVENT
BEGIN:VEVENT
DTSTART;VALUE=DATE:20251129
DTEND;VALUE=DATE:20251130
DTSTAMP:20260421T062955
CREATED:20251106T165808Z
LAST-MODIFIED:20251127T185407Z
UID:13602-1764374400-1764460799@www.casadefestas.net
SUMMARY:DISCOTEKA @ NUUN GARDEN
DESCRIPTION:INGRESSO Válido para o dia\, hora\, local e setor para o qual foi emitido. O ingresso é a entrada na casa. A casa não possui setores de ingressos diferentes. \nCAMAROTE dá direito a 10 INGRESSOS de camarote (espaço reservado – consulte o mapa) \nMENORES DE 16 A 18 ANOS: Bastar apresentar a autorização abaixo impressa e preenchida pelos pais e a cópia do RG: https://bit.ly/3WqkQeA \n\n Formas de Pagamento: Dinheiro\, Pix e tem acréscimo no Cartão Débito e Crédito (lei 13455 de 26 de junho de 2017)\n\n Atenção – Valores acima podem sofrer alteração a qualquer momento sem aviso prévio. \n\nPCD + Informações: (65) 9.9244-3375 (atendimento 09h00 as 18h00) \nGratuidade para Deficientes Físicos\, Autismo e Idosos acima de 65 anos\nEm entendimento a Lei nº 5.634 de 21 de Janeiro de 2013 art. 2º a comprovação da deficiência do beneficiário desta Lei será feita mediante apresentação da carteira da entidade que o represente ou que os assistam.\nTem Direito a Acompanhante:\n– Carteira da Associação se estiver escrito que tem direito a acompanhante.\n– Deficiente Visual independente se tiver a observação de acompanhante\n– Deficiente com dificuldade motora (cadeirante) independente se tiver a observação de acompanhante.\nA gratuidade de ingresso serão emitidas no dia na Bilheteria.\nNão aceita laudo e nem carteirinha de ônibus. \nQuem tem DIREITO a MEIA ENTRADA: \n– Estudantes\n– Doador de Sangue ou Medula – Carteira de Doador\n– Professor – Holerite ou Carteira da Associação ou Sindicato)\n– Idoso entre 60 a 65 anos\n– Aposentados\n– Jovem da Baixa Renda\n– Portadores de Câncer e Doenças Degenerativas\n– Portador do Cartão ID Jovem com validade vigente na data do jogo\n– Radialista e Jornalista conforme Lei Municipal 5.497 de 6 de dezembro de 2011)\n– PCD \nCASA DE FESTAS \n LOJA 1 Pantanal Shopping\, Piso 2 ao lado da Riachuelo\natendimento 10h as 20h segunda a sábado\, domingo fechado\nAv. Historiador Rubens de Mendonça. 3300\nJardim Aclimação\nCuiabá/MT\n Inf. (65) 9.9953-1935 \n LOJA 2 Várzea Grande Shopping\, Abrantes Barbearia (alameda de serviço)\natendimento 10h as 20h segunda a sábado\, domingo fechado\nAv. Presidente Artur Bernardes\, 43\nCentro Sul\nVárzea Grande/MT\n Inf. (65) 9.9953-1935 \n LOJA 3 Coxipó\, Salão Ampliato\natendimento 9h as 19h\, segunda a sábado\, domingo fechado\nAv. Tancredo Neves\, 631 (Córrego do Barbado)\nJardim Petrópolis\nCuiabá/MT\n Inf. (65) 9.9953-1935 \nTemos ON LINE e o serviço DISK INGRESSO\natendimento 10h as 18h segunda a sexta\n*disk ingresso consulte a taxa do motoboy\n*on-line cliente recebera ingresso sms e e-mail e pagamento via pix\nCaso queira adquirir seu ingresso pelo nosso WhatsApp cliente receberá sms e e-mail (alguns eventos) e outros deixamos separados após pagamento para retirada pelo mesmo.\natendimento 10h as 20h segunda a sábado\n Informações: (65) 9.9953-1935 \nQuem Dita Tendência. Compra Antecipado!!!
URL:https://www.casadefestas.net/evento/discoteka-nuun-garden/
LOCATION:Nuun Garden\, Brazil
CATEGORIES:Nuun Garden
ATTACH;FMTTYPE=image/png:https://www.casadefestas.net/wp-content/uploads/2025/11/NU-DISCOTEKA-Site-800x600-1.png
END:VEVENT
BEGIN:VEVENT
DTSTART;VALUE=DATE:20251129
DTEND;VALUE=DATE:20251130
DTSTAMP:20260421T062955
CREATED:20251112T174308Z
LAST-MODIFIED:20251125T193215Z
UID:13681-1764374400-1764460799@www.casadefestas.net
SUMMARY:Final da Libertadores na Luzzem - 16h
DESCRIPTION:1 de 1\n                                \n                                    \n                                    \n                                \n                            \n                        \n\n                        \n                            \n                                \n                    \n                        \n                            \n                                \n                            \n                            \n                        \n                    \n                            \n                        \n\n                        \n                            \n                                \n                    \n                        \n                    \n                            \n                        \n\n                    \n\n                \n                \n\n Formas de Pagamento: Dinheiro\, Pix e tem acréscimo no Cartão Débito e Crédito (lei 13455 de 26 de junho de 2017)\n\n Atenção – Valores acima podem sofrer alteração a qualquer momento sem aviso prévio. \n\nPCD + Informações: (65) 9.9948-5243 (atendimento 09h00 as 18h00) \nGratuidade para Deficientes Físicos\, Autismo e Idosos acima de 65 anos\nEm entendimento a Lei nº 5.634 de 21 de Janeiro de 2013 art. 2º a comprovação da deficiência do beneficiário desta Lei será feita mediante apresentação da carteira da entidade que o represente ou que os assistam.\nTem Direito a Acompanhante:\n– Carteira da Associação se estiver escrito que tem direito a acompanhante.\n– Deficiente Visual independente se tiver a observação de acompanhante\n– Deficiente com dificuldade motora (cadeirante) independente se tiver a observação de acompanhante.\nA gratuidade de ingresso serão emitidas no dia na Bilheteria.\nNão aceita laudo e nem carteirinha de ônibus. \nQuem tem DIREITO a MEIA ENTRADA: \n– Estudantes\n– Doador de Sangue ou Medula – Carteira de Doador\n– Professor – Holerite ou Carteira da Associação ou Sindicato)\n– Idoso entre 60 a 65 anos\n– Aposentados\n– Jovem da Baixa Renda\n– Portadores de Câncer e Doenças Degenerativas\n– Portador do Cartão ID Jovem com validade vigente na data do jogo\n– Radialista e Jornalista conforme Lei Municipal 5.497 de 6 de dezembro de 2011)\n– PCD \nCASA DE FESTAS \n LOJA 1 Pantanal Shopping\, Piso 2 ao lado da Riachuelo\natendimento 10h as 20h segunda a sábado\, domingo fechado\nAv. Historiador Rubens de Mendonça. 3300\nJardim Aclimação\nCuiabá/MT\n Inf. (65) 9.9953-1935 \n LOJA 2 Várzea Grande Shopping\, Abrantes Barbearia (alameda de serviço)\natendimento 10h as 20h segunda a sábado\, domingo fechado\nAv. Presidente Artur Bernardes\, 43\nCentro Sul\nVárzea Grande/MT\n Inf. (65) 9.9953-1935 \n LOJA 3 Coxipó\, Salão Ampliato\natendimento 9h as 19h\, segunda a sábado\, domingo fechado\nAv. Tancredo Neves\, 631 (Córrego do Barbado)\nJardim Petrópolis\nCuiabá/MT\n Inf. (65) 9.9953-1935 \nTemos ON LINE e o serviço DISK INGRESSO\natendimento 10h as 18h segunda a sexta\n*disk ingresso consulte a taxa do motoboy\n*on-line cliente recebera ingresso sms e e-mail e pagamento via pix\nCaso queira adquirir seu ingresso pelo nosso WhatsApp cliente receberá sms e e-mail (alguns eventos) e outros deixamos separados após pagamento para retirada pelo mesmo.\natendimento 10h as 20h segunda a sábado\n Informações: (65) 9.9953-1935 \nQuem Dita Tendência. Compra Antecipado!!!
URL:https://www.casadefestas.net/evento/final-da-libertadores-na-luzzem-16h/
LOCATION:LUZZEM\, Av. Carmindo de Campos\, 1539 - Campo Velho\, CUIABÁ\, MATO GROSSO\, 78065-310\, Brazil
CATEGORIES:Luzzem
ATTACH;FMTTYPE=image/jpeg:https://www.casadefestas.net/wp-content/uploads/2025/11/WhatsApp-Image-2025-11-11-at-12.09.26.jpeg
END:VEVENT
BEGIN:VEVENT
DTSTART;VALUE=DATE:20251129
DTEND;VALUE=DATE:20251130
DTSTAMP:20260421T062955
CREATED:20251117T170640Z
LAST-MODIFIED:20251117T170640Z
UID:13786-1764374400-1764460799@www.casadefestas.net
SUMMARY:URUBU CUIABANO - FINAL DA LIBERTADORES - 14h
DESCRIPTION:1 de 1\n                                \n                                    \n                                    \n                                \n                            \n                        \n\n                        \n                            \n                                \n                    \n                        \n                            \n                                \n                            \n                            \n                        \n                    \n                            \n                        \n\n                        \n                            \n                                \n                    \n                        \n                    \n                            \n                        \n\n                    \n\n                \n                \n\n Formas de Pagamento: Dinheiro\, Pix\, Cartão Débito e Crédito\, e se for parcelar tem acréscimo (lei 13455 de 26 de junho de 2017)\n\n Atenção – Valores acima podem sofrer alteração a qualquer momento sem aviso prévio. \n\nPCD + Informações: (65) 9.8105-6633 (atendimento 09h00 as 18h00) \nGratuidade para Deficientes Físicos\, Autismo e Idosos acima de 65 anos\nEm entendimento a Lei nº 5.634 de 21 de Janeiro de 2013 art. 2º a comprovação da deficiência do beneficiário desta Lei será feita mediante apresentação da carteira da entidade que o represente ou que os assistam.\nTem Direito a Acompanhante:\n– Carteira da Associação se estiver escrito que tem direito a acompanhante.\n– Deficiente Visual independente se tiver a observação de acompanhante\n– Deficiente com dificuldade motora (cadeirante) independente se tiver a observação de acompanhante.\nA gratuidade de ingresso serão emitidas no dia na Bilheteria.\nNão aceita laudo e nem carteirinha de ônibus. \nQuem tem DIREITO a MEIA ENTRADA: \n– Estudantes\n– Doador de Sangue ou Medula – Carteira de Doador\n– Professor – Holerite ou Carteira da Associação ou Sindicato)\n– Idoso entre 60 a 65 anos\n– Aposentados\n– Jovem da Baixa Renda\n– Portadores de Câncer e Doenças Degenerativas\n– Portador do Cartão ID Jovem com validade vigente na data do jogo\n– Radialista e Jornalista conforme Lei Municipal 5.497 de 6 de dezembro de 2011)\n– PCD \nCASA DE FESTAS \n LOJA 1 Pantanal Shopping\, Piso 2 ao lado da Riachuelo\natendimento 10h as 20h segunda a sábado\, domingo fechado\nAv. Historiador Rubens de Mendonça. 3300\nJardim Aclimação\nCuiabá/MT\n Inf. (65) 9.9953-1935 \n LOJA 2 Várzea Grande Shopping\, Abrantes Barbearia (alameda de serviço)\natendimento 10h as 20h segunda a sábado\, domingo fechado\nAv. Presidente Artur Bernardes\, 43\nCentro Sul\nVárzea Grande/MT\n Inf. (65) 9.9953-1935 \n LOJA 3 Coxipó\, Salão Ampliato\natendimento 9h as 19h\, segunda a sábado\, domingo fechado\nAv. Tancredo Neves\, 631 (Córrego do Barbado)\nJardim Petrópolis\nCuiabá/MT\n Inf. (65) 9.9953-1935 \nTemos ON LINE e o serviço DISK INGRESSO\natendimento 10h as 18h segunda a sexta\n*disk ingresso consulte a taxa do motoboy\n*on-line cliente recebera ingresso sms e e-mail e pagamento via pix\nCaso queira adquirir seu ingresso pelo nosso WhatsApp cliente receberá sms e e-mail (alguns eventos) e outros deixamos separados após pagamento para retirada pelo mesmo.\natendimento 10h as 20h segunda a sábado\n Informações: (65) 9.9953-1935 \nQuem Dita Tendência. Compra Antecipado!!!
URL:https://www.casadefestas.net/evento/urubu-cuiabano-final-da-libertadores-14h/
LOCATION:Musiva\, Av. Manoel José de Arruda\, 4435 - Porto\, Cuiabá - MT\, 78055-498\, Cuiabá\, MT\, 78055-498\, Brazil
CATEGORIES:Musiva
ATTACH;FMTTYPE=image/png:https://www.casadefestas.net/wp-content/uploads/2025/11/URUBUCUIABANNO.png
END:VEVENT
END:VCALENDAR